BEGIN:VCALENDAR
VERSION:2.0
PRODID:-//Gaelscoil Bhride Durlas Eile - Gaelscoil Thurles - ECPv4.5.13//NONSGML v1.0//EN
CALSCALE:GREGORIAN
METHOD:PUBLISH
X-WR-CALNAME:Gaelscoil Bhride Durlas Eile - Gaelscoil Thurles
X-ORIGINAL-URL:https://gaelscoildurlas.ie
X-WR-CALDESC:Events for Gaelscoil Bhride Durlas Eile - Gaelscoil Thurles
BEGIN:VEVENT
DTSTART;VALUE=DATE:20171106
DTEND;VALUE=DATE:20171106
DTSTAMP:20171105T203954
CREATED:20171011T131557Z
LAST-MODIFIED:20171011T131557Z
UID:121371-1509926400-1510012799@gaelscoildurlas.ie
SUMMARY:Grianghrafanna Scoile - School Photos
DESCRIPTION:
URL:https://gaelscoildurlas.ie/event/grianghrafanna-scoile-school-photos/
END:VEVENT
BEGIN:VEVENT
DTSTART;TZID=UTC+0:20171108T113000
DTEND;TZID=UTC+0:20171108T130000
DTSTAMP:20171105T203954
CREATED:20171011T131317Z
LAST-MODIFIED:20171011T131317Z
UID:121365-1510140600-1510146000@gaelscoildurlas.ie
SUMMARY:Bliots Peile Fé 11
DESCRIPTION:
URL:https://gaelscoildurlas.ie/event/bliots-peile-fe-11/
END:VEVENT
BEGIN:VEVENT
DTSTART;TZID=UTC+0:20171109T113000
DTEND;TZID=UTC+0:20171109T130000
DTSTAMP:20171105T203954
CREATED:20171011T131411Z
LAST-MODIFIED:20171011T131411Z
UID:121368-1510227000-1510232400@gaelscoildurlas.ie
SUMMARY:Bliots - Peil na mBan
DESCRIPTION:
URL:https://gaelscoildurlas.ie/event/bliots-peil-na-mban-2/
END:VEVENT
END:VCALENDAR